BEGIN:VCALENDAR
VERSION:2.0
METHOD:PUBLISH
X-WR-CALNAME:Te Kauwhata College |  April 01 2017- May 01 2017 | Filter\: 
PRODID:-//strange bird labs//Drupal iCal API//EN
BEGIN:VEVENT
DTSTAMP;VALUE=DATE-TIME:20180125T051629Z
DTSTART;VALUE=DATE-TIME:20170403T004400Z
DTEND;VALUE=DATE-TIME:20020203
UID:http://www.tkcoll.school.nz/ero-visit
URL;VALUE=URI:http://www.tkcoll.school.nz/ero-visit
SUMMARY:ERO Visit
END:VEVENT
BEGIN:VEVENT
DTSTAMP;VALUE=DATE-TIME:20180125T051629Z
DTSTART;VALUE=DATE-TIME:20170404T043000Z
DTEND;VALUE=DATE-TIME:20170404T043000Z
UID:http://www.tkcoll.school.nz/whanau-hui-1
URL;VALUE=URI:http://www.tkcoll.school.nz/whanau-hui-1
SUMMARY:Whanau Hui
END:VEVENT
BEGIN:VEVENT
DTSTAMP;VALUE=DATE-TIME:20180125T051629Z
DTSTART;VALUE=DATE-TIME:20170404T202700Z
DTEND;VALUE=DATE-TIME:20020203
UID:http://www.tkcoll.school.nz/lats-trip
URL;VALUE=URI:http://www.tkcoll.school.nz/lats-trip
SUMMARY:LATS Trip - \\"Day in the Life of an Elite Athlete\\"
DESCRIPTION:<p>Students must be at school by 7.30am and they will return to the College at 4.30pm.</p>
END:VEVENT
BEGIN:VEVENT
DTSTAMP;VALUE=DATE-TIME:20180125T051629Z
DTSTART;VALUE=DATE-TIME:20170404T215200Z
DTEND;VALUE=DATE-TIME:20020203
UID:http://www.tkcoll.school.nz/l1-geog-l2-tourism-field-trip-to-auckland
URL;VALUE=URI:http://www.tkcoll.school.nz/l1-geog-l2-tourism-field-trip-to-auckland
SUMMARY:L1 Geog & L2 Tourism Field Trip to Auckland
END:VEVENT
BEGIN:VEVENT
DTSTAMP;VALUE=DATE-TIME:20180125T051629Z
DTSTART;VALUE=DATE-TIME:20170405T004600Z
DTEND;VALUE=DATE-TIME:20020203
UID:http://www.tkcoll.school.nz/thames-valley-tennis-year-9-13
URL;VALUE=URI:http://www.tkcoll.school.nz/thames-valley-tennis-year-9-13
SUMMARY:Thames Valley Tennis (Year 9-13)
END:VEVENT
BEGIN:VEVENT
DTSTAMP;VALUE=DATE-TIME:20180125T051629Z
DTSTART;VALUE=DATE-TIME:20170405T004600Z
DTEND;VALUE=DATE-TIME:20020203
UID:http://www.tkcoll.school.nz/chainsaw-course-1
URL;VALUE=URI:http://www.tkcoll.school.nz/chainsaw-course-1
SUMMARY:Chainsaw Course
END:VEVENT
BEGIN:VEVENT
DTSTAMP;VALUE=DATE-TIME:20180125T051629Z
DTSTART;VALUE=DATE-TIME:20170407T004700Z
DTEND;VALUE=DATE-TIME:20020203
UID:http://www.tkcoll.school.nz/thames-valley-golf
URL;VALUE=URI:http://www.tkcoll.school.nz/thames-valley-golf
SUMMARY:Thames Valley Golf
END:VEVENT
BEGIN:VEVENT
DTSTAMP;VALUE=DATE-TIME:20180125T051629Z
DTSTART;VALUE=DATE-TIME:20170411T004700Z
DTEND;VALUE=DATE-TIME:20020203
UID:http://www.tkcoll.school.nz/waikato-swimming-champs-year-9-13
URL;VALUE=URI:http://www.tkcoll.school.nz/waikato-swimming-champs-year-9-13
SUMMARY:Waikato Swimming Champs (Year 9-13)
END:VEVENT
BEGIN:VEVENT
DTSTAMP;VALUE=DATE-TIME:20180125T051629Z
DTSTART;VALUE=DATE-TIME:20170412T210000Z
DTEND;VALUE=DATE-TIME:20020203
UID:http://www.tkcoll.school.nz/last-day-of-term-1-1
URL;VALUE=URI:http://www.tkcoll.school.nz/last-day-of-term-1-1
SUMMARY:Last day of Term 1
END:VEVENT
BEGIN:VEVENT
DTSTAMP;VALUE=DATE-TIME:20180125T051629Z
DTSTART;VALUE=DATE-TIME:20170413T210000Z
DTEND;VALUE=DATE-TIME:20020203
UID:http://www.tkcoll.school.nz/holidays-5
URL;VALUE=URI:http://www.tkcoll.school.nz/holidays-5
SUMMARY:Holidays
END:VEVENT
BEGIN:VEVENT
DTSTAMP;VALUE=DATE-TIME:20180125T051629Z
DTSTART;VALUE=DATE-TIME:20170414T004700Z
DTEND;VALUE=DATE-TIME:20020203
UID:http://www.tkcoll.school.nz/good-friday-2
URL;VALUE=URI:http://www.tkcoll.school.nz/good-friday-2
SUMMARY:Good Friday
END:VEVENT
BEGIN:VEVENT
DTSTAMP;VALUE=DATE-TIME:20180125T051629Z
DTSTART;VALUE=DATE-TIME:20170417T004700Z
DTEND;VALUE=DATE-TIME:20020203
UID:http://www.tkcoll.school.nz/easter-monday-1
URL;VALUE=URI:http://www.tkcoll.school.nz/easter-monday-1
SUMMARY:Easter Monday
END:VEVENT
BEGIN:VEVENT
DTSTAMP;VALUE=DATE-TIME:20180125T051629Z
DTSTART;VALUE=DATE-TIME:20170425T004800Z
DTEND;VALUE=DATE-TIME:20020203
UID:http://www.tkcoll.school.nz/anzac-day-0
URL;VALUE=URI:http://www.tkcoll.school.nz/anzac-day-0
SUMMARY:Anzac Day
END:VEVENT
END:VCALENDAR
