BEGIN:VCALENDAR
VERSION:2.0
METHOD:PUBLISH
X-WR-CALNAME:Te Kauwhata College |  May 01 2017- June 01 2017 | Filter\: 
PRODID:-//strange bird labs//Drupal iCal API//EN
BEGIN:VEVENT
DTSTAMP;VALUE=DATE-TIME:20180125T045948Z
DTSTART;VALUE=DATE-TIME:20170430T210100Z
DTEND;VALUE=DATE-TIME:20020203
UID:http://www.tkcoll.school.nz/first-day-of-term-2-1
URL;VALUE=URI:http://www.tkcoll.school.nz/first-day-of-term-2-1
SUMMARY:First day of Term 2
END:VEVENT
BEGIN:VEVENT
DTSTAMP;VALUE=DATE-TIME:20180125T045948Z
DTSTART;VALUE=DATE-TIME:20170502T010200Z
DTEND;VALUE=DATE-TIME:20020203
UID:http://www.tkcoll.school.nz/english-pop-up-globe-trip
URL;VALUE=URI:http://www.tkcoll.school.nz/english-pop-up-globe-trip
SUMMARY:Senior English & Drama Pop-Up Globe Trip
END:VEVENT
BEGIN:VEVENT
DTSTAMP;VALUE=DATE-TIME:20180125T045948Z
DTSTART;VALUE=DATE-TIME:20170504T010300Z
DTEND;VALUE=DATE-TIME:20020203
UID:http://www.tkcoll.school.nz/thames-valley-bowls-year-9-13
URL;VALUE=URI:http://www.tkcoll.school.nz/thames-valley-bowls-year-9-13
SUMMARY:Postponed - TV Bowls (Yr 9-13)
END:VEVENT
BEGIN:VEVENT
DTSTAMP;VALUE=DATE-TIME:20180125T045948Z
DTSTART;VALUE=DATE-TIME:20170504T201200Z
DTEND;VALUE=DATE-TIME:20020203
UID:http://www.tkcoll.school.nz/yellow-red-mufti-day-westpac-chopper-fundraiser
URL;VALUE=URI:http://www.tkcoll.school.nz/yellow-red-mufti-day-westpac-chopper-fundraiser
SUMMARY:Yellow & Red Mufti Day - Westpac Chopper Fundraiser
END:VEVENT
BEGIN:VEVENT
DTSTAMP;VALUE=DATE-TIME:20180125T045948Z
DTSTART;VALUE=DATE-TIME:20170504T204000Z
DTEND;VALUE=DATE-TIME:20020203
UID:http://www.tkcoll.school.nz/national-young-leaders-trip
URL;VALUE=URI:http://www.tkcoll.school.nz/national-young-leaders-trip
SUMMARY:National Young Leaders Trip
END:VEVENT
BEGIN:VEVENT
DTSTAMP;VALUE=DATE-TIME:20180125T045948Z
DTSTART;VALUE=DATE-TIME:20170505T204000Z
DTEND;VALUE=DATE-TIME:20020203
UID:http://www.tkcoll.school.nz/rugby-1st-xv-and-u15-seasons-start
URL;VALUE=URI:http://www.tkcoll.school.nz/rugby-1st-xv-and-u15-seasons-start
SUMMARY:Rugby 1st XV and U15 seasons start
END:VEVENT
BEGIN:VEVENT
DTSTAMP;VALUE=DATE-TIME:20180125T045948Z
DTSTART;VALUE=DATE-TIME:20170505T204000Z
DTEND;VALUE=DATE-TIME:20020203
UID:http://www.tkcoll.school.nz/netball-season-starts
URL;VALUE=URI:http://www.tkcoll.school.nz/netball-season-starts
SUMMARY:Netball season starts
END:VEVENT
BEGIN:VEVENT
DTSTAMP;VALUE=DATE-TIME:20180125T045948Z
DTSTART;VALUE=DATE-TIME:20170507T214600Z
DTEND;VALUE=DATE-TIME:20020203
UID:http://www.tkcoll.school.nz/national-young-leaders-trip-yr-7-8-9-student-leaders
URL;VALUE=URI:http://www.tkcoll.school.nz/national-young-leaders-trip-yr-7-8-9-student-leaders
SUMMARY:National Young Leaders trip  - Yr 7\, 8 & 9 Student Leaders
END:VEVENT
BEGIN:VEVENT
DTSTAMP;VALUE=DATE-TIME:20180125T045948Z
DTSTART;VALUE=DATE-TIME:20170509T010300Z
DTEND;VALUE=DATE-TIME:20020203
UID:http://www.tkcoll.school.nz/pro-med-health-safety-course
URL;VALUE=URI:http://www.tkcoll.school.nz/pro-med-health-safety-course
SUMMARY:Pro Med Health & Safety Course
END:VEVENT
BEGIN:VEVENT
DTSTAMP;VALUE=DATE-TIME:20180125T045948Z
DTSTART;VALUE=DATE-TIME:20170509T215100Z
DTEND;VALUE=DATE-TIME:20020203
UID:http://www.tkcoll.school.nz/l2-geography-field-trip-to-tongariro
URL;VALUE=URI:http://www.tkcoll.school.nz/l2-geography-field-trip-to-tongariro
SUMMARY:L2 Geography Field Trip to Tongariro
END:VEVENT
BEGIN:VEVENT
DTSTAMP;VALUE=DATE-TIME:20180125T045948Z
DTSTART;VALUE=DATE-TIME:20170511T203000Z
DTEND;VALUE=DATE-TIME:20020203
UID:http://www.tkcoll.school.nz/wintec-open-day-1
URL;VALUE=URI:http://www.tkcoll.school.nz/wintec-open-day-1
SUMMARY:Wintec Open Day
END:VEVENT
BEGIN:VEVENT
DTSTAMP;VALUE=DATE-TIME:20180125T045948Z
DTSTART;VALUE=DATE-TIME:20170511T210600Z
DTEND;VALUE=DATE-TIME:20020203
UID:http://www.tkcoll.school.nz/staff-only-day-school-closed
URL;VALUE=URI:http://www.tkcoll.school.nz/staff-only-day-school-closed
SUMMARY:TEACHER ONLY DAY (school closed)
END:VEVENT
BEGIN:VEVENT
DTSTAMP;VALUE=DATE-TIME:20180125T045948Z
DTSTART;VALUE=DATE-TIME:20170515T214700Z
DTEND;VALUE=DATE-TIME:20020203
UID:http://www.tkcoll.school.nz/auckland-writers-festival-trip-year-8
URL;VALUE=URI:http://www.tkcoll.school.nz/auckland-writers-festival-trip-year-8
SUMMARY:Auckland Writers' Festival Trip - Year 8
END:VEVENT
BEGIN:VEVENT
DTSTAMP;VALUE=DATE-TIME:20180125T045948Z
DTSTART;VALUE=DATE-TIME:20170516T202900Z
DTEND;VALUE=DATE-TIME:20020203
UID:http://www.tkcoll.school.nz/auckland-writers-festival-trip
URL;VALUE=URI:http://www.tkcoll.school.nz/auckland-writers-festival-trip
SUMMARY:Auckland Writers' Festival Trip - Seniors
END:VEVENT
BEGIN:VEVENT
DTSTAMP;VALUE=DATE-TIME:20180125T045948Z
DTSTART;VALUE=DATE-TIME:20170517T212700Z
DTEND;VALUE=DATE-TIME:20020203
UID:http://www.tkcoll.school.nz/life-education-year-7-8
URL;VALUE=URI:http://www.tkcoll.school.nz/life-education-year-7-8
SUMMARY:Life Education - Year 7 & 8
END:VEVENT
BEGIN:VEVENT
DTSTAMP;VALUE=DATE-TIME:20180125T045948Z
DTSTART;VALUE=DATE-TIME:20170518T203500Z
DTEND;VALUE=DATE-TIME:20020203
UID:http://www.tkcoll.school.nz/market-day-yr-10-enterprise-studies
URL;VALUE=URI:http://www.tkcoll.school.nz/market-day-yr-10-enterprise-studies
SUMMARY:Market Day - Yr 10 Enterprise Studies
END:VEVENT
BEGIN:VEVENT
DTSTAMP;VALUE=DATE-TIME:20180125T045948Z
DTSTART;VALUE=DATE-TIME:20170518T223600Z
DTEND;VALUE=DATE-TIME:20020203
UID:http://www.tkcoll.school.nz/waikato-uni-open-day-0
URL;VALUE=URI:http://www.tkcoll.school.nz/waikato-uni-open-day-0
SUMMARY:Waikato Uni Open Day
END:VEVENT
BEGIN:VEVENT
DTSTAMP;VALUE=DATE-TIME:20180125T045948Z
DTSTART;VALUE=DATE-TIME:20170521T205900Z
DTEND;VALUE=DATE-TIME:20020203
UID:http://www.tkcoll.school.nz/year-10-camp-1
URL;VALUE=URI:http://www.tkcoll.school.nz/year-10-camp-1
SUMMARY:Year 10 Camp
END:VEVENT
BEGIN:VEVENT
DTSTAMP;VALUE=DATE-TIME:20180125T045948Z
DTSTART;VALUE=DATE-TIME:20170521T212800Z
DTEND;VALUE=DATE-TIME:20020203
UID:http://www.tkcoll.school.nz/life-education-cont-year-7-8
URL;VALUE=URI:http://www.tkcoll.school.nz/life-education-cont-year-7-8
SUMMARY:Life Education (cont) - Year 7 & 8
END:VEVENT
BEGIN:VEVENT
DTSTAMP;VALUE=DATE-TIME:20180125T045948Z
DTSTART;VALUE=DATE-TIME:20170523T223700Z
DTEND;VALUE=DATE-TIME:20020203
UID:http://www.tkcoll.school.nz/thames-valley-showjumping-0
URL;VALUE=URI:http://www.tkcoll.school.nz/thames-valley-showjumping-0
SUMMARY:Thames Valley Showjumping
END:VEVENT
BEGIN:VEVENT
DTSTAMP;VALUE=DATE-TIME:20180125T045948Z
DTSTART;VALUE=DATE-TIME:20170525T203400Z
DTEND;VALUE=DATE-TIME:20020203
UID:http://www.tkcoll.school.nz/thames-valley-golf-0
URL;VALUE=URI:http://www.tkcoll.school.nz/thames-valley-golf-0
SUMMARY:Thames Valley Golf
END:VEVENT
BEGIN:VEVENT
DTSTAMP;VALUE=DATE-TIME:20180125T045948Z
DTSTART;VALUE=DATE-TIME:20170530T203500Z
DTEND;VALUE=DATE-TIME:20020203
UID:http://www.tkcoll.school.nz/thames-valley-cross-country-0
URL;VALUE=URI:http://www.tkcoll.school.nz/thames-valley-cross-country-0
SUMMARY:Thames Valley Cross Country (Yr 9-13)
END:VEVENT
BEGIN:VEVENT
DTSTAMP;VALUE=DATE-TIME:20180125T045948Z
DTSTART;VALUE=DATE-TIME:20170531T053000Z
DTEND;VALUE=DATE-TIME:20170531T053000Z
UID:http://www.tkcoll.school.nz/board-of-trustees-meeting-25
URL;VALUE=URI:http://www.tkcoll.school.nz/board-of-trustees-meeting-25
SUMMARY:Board of Trustees Meeting
END:VEVENT
END:VCALENDAR
