BEGIN:VCALENDAR
VERSION:2.0
METHOD:PUBLISH
X-WR-CALNAME:Te Kauwhata College |  June 01 2017- July 01 2017
PRODID:-//strange bird labs//Drupal iCal API//EN
BEGIN:VEVENT
DTSTAMP;VALUE=DATE-TIME:20180125T050021Z
DTSTART;VALUE=DATE-TIME:20170602T010400Z
DTEND;VALUE=DATE-TIME:20020203
UID:http://www.tkcoll.school.nz/learner-licensing
URL;VALUE=URI:http://www.tkcoll.school.nz/learner-licensing
SUMMARY:Learner Licensing
END:VEVENT
BEGIN:VEVENT
DTSTAMP;VALUE=DATE-TIME:20180125T050021Z
DTSTART;VALUE=DATE-TIME:20170605T004800Z
DTEND;VALUE=DATE-TIME:20020203
UID:http://www.tkcoll.school.nz/queens-birthday-0
URL;VALUE=URI:http://www.tkcoll.school.nz/queens-birthday-0
SUMMARY:Queen's Birthday (school closed)
END:VEVENT
BEGIN:VEVENT
DTSTAMP;VALUE=DATE-TIME:20180125T050021Z
DTSTART;VALUE=DATE-TIME:20170606T113400Z
DTEND;VALUE=DATE-TIME:20020203
UID:http://www.tkcoll.school.nz/tkc-cross-country
URL;VALUE=URI:http://www.tkcoll.school.nz/tkc-cross-country
SUMMARY:TKC Cross Country
END:VEVENT
BEGIN:VEVENT
DTSTAMP;VALUE=DATE-TIME:20180125T050021Z
DTSTART;VALUE=DATE-TIME:20170606T203600Z
DTEND;VALUE=DATE-TIME:20020203
UID:http://www.tkcoll.school.nz/waikato-cross-country-yr-9-13
URL;VALUE=URI:http://www.tkcoll.school.nz/waikato-cross-country-yr-9-13
SUMMARY:Waikato Cross Country (Yr 9-13)
END:VEVENT
BEGIN:VEVENT
DTSTAMP;VALUE=DATE-TIME:20180125T050021Z
DTSTART;VALUE=DATE-TIME:20170606T230900Z
DTEND;VALUE=DATE-TIME:20020203
UID:http://www.tkcoll.school.nz/l1-geog-trip-to-muriwai-beach
URL;VALUE=URI:http://www.tkcoll.school.nz/l1-geog-trip-to-muriwai-beach
SUMMARY:L1 Geog trip to Muriwai Beach
END:VEVENT
BEGIN:VEVENT
DTSTAMP;VALUE=DATE-TIME:20180125T050021Z
DTSTART;VALUE=DATE-TIME:20170612T010500Z
DTEND;VALUE=DATE-TIME:20020203
UID:http://www.tkcoll.school.nz/hamilton-careers-expo
URL;VALUE=URI:http://www.tkcoll.school.nz/hamilton-careers-expo
SUMMARY:Hamilton Careers Expo
END:VEVENT
BEGIN:VEVENT
DTSTAMP;VALUE=DATE-TIME:20180125T050021Z
DTSTART;VALUE=DATE-TIME:20170615T013400Z
DTEND;VALUE=DATE-TIME:20020203
UID:http://www.tkcoll.school.nz/l2-geog-trip-to-hamilton
URL;VALUE=URI:http://www.tkcoll.school.nz/l2-geog-trip-to-hamilton
SUMMARY:L2 Geog trip to Hamilton
END:VEVENT
BEGIN:VEVENT
DTSTAMP;VALUE=DATE-TIME:20180125T050021Z
DTSTART;VALUE=DATE-TIME:20170615T015400Z
DTEND;VALUE=DATE-TIME:20020203
UID:http://www.tkcoll.school.nz/ncea-dance-and-drama-showcase
URL;VALUE=URI:http://www.tkcoll.school.nz/ncea-dance-and-drama-showcase
SUMMARY:NCEA Dance and Drama Showcase
END:VEVENT
BEGIN:VEVENT
DTSTAMP;VALUE=DATE-TIME:20180125T050021Z
DTSTART;VALUE=DATE-TIME:20170616T231000Z
DTEND;VALUE=DATE-TIME:20020203
UID:http://www.tkcoll.school.nz/school-ball-2
URL;VALUE=URI:http://www.tkcoll.school.nz/school-ball-2
SUMMARY:School Ball
END:VEVENT
BEGIN:VEVENT
DTSTAMP;VALUE=DATE-TIME:20180125T050021Z
DTSTART;VALUE=DATE-TIME:20170619T011200Z
DTEND;VALUE=DATE-TIME:20020203
UID:http://www.tkcoll.school.nz/l3-geography-field-trip-to-whiritoa-beach
URL;VALUE=URI:http://www.tkcoll.school.nz/l3-geography-field-trip-to-whiritoa-beach
SUMMARY:L3 Geog trip to Whiritoa Beach
END:VEVENT
BEGIN:VEVENT
DTSTAMP;VALUE=DATE-TIME:20180125T050021Z
DTSTART;VALUE=DATE-TIME:20170621T015400Z
DTEND;VALUE=DATE-TIME:20020203
UID:http://www.tkcoll.school.nz/sports-exchange-with-tuakau-college
URL;VALUE=URI:http://www.tkcoll.school.nz/sports-exchange-with-tuakau-college
SUMMARY:Sports Exchange with Tuakau College
END:VEVENT
BEGIN:VEVENT
DTSTAMP;VALUE=DATE-TIME:20180125T050021Z
DTSTART;VALUE=DATE-TIME:20170622T201200Z
DTEND;VALUE=DATE-TIME:20020203
UID:http://www.tkcoll.school.nz/robocup-challenge-hamilton
URL;VALUE=URI:http://www.tkcoll.school.nz/robocup-challenge-hamilton
SUMMARY:Robocup Challenge\, Hamilton
END:VEVENT
BEGIN:VEVENT
DTSTAMP;VALUE=DATE-TIME:20180125T050021Z
DTSTART;VALUE=DATE-TIME:20170627T200500Z
DTEND;VALUE=DATE-TIME:20020203
UID:http://www.tkcoll.school.nz/kahui-ako-launch
URL;VALUE=URI:http://www.tkcoll.school.nz/kahui-ako-launch
SUMMARY:Kahui Ako Launch
END:VEVENT
BEGIN:VEVENT
DTSTAMP;VALUE=DATE-TIME:20180125T050021Z
DTSTART;VALUE=DATE-TIME:20170627T201200Z
DTEND;VALUE=DATE-TIME:20020203
UID:http://www.tkcoll.school.nz/newsworthy-elective-trip-to-newspapers-offices
URL;VALUE=URI:http://www.tkcoll.school.nz/newsworthy-elective-trip-to-newspapers-offices
SUMMARY:Newsworthy Elective trip to Newspapers' offices
END:VEVENT
BEGIN:VEVENT
DTSTAMP;VALUE=DATE-TIME:20180125T050021Z
DTSTART;VALUE=DATE-TIME:20170627T201200Z
DTEND;VALUE=DATE-TIME:20020203
UID:http://www.tkcoll.school.nz/police-elective-trip-to-waitomo
URL;VALUE=URI:http://www.tkcoll.school.nz/police-elective-trip-to-waitomo
SUMMARY:Police Elective trip to Waitomo
END:VEVENT
BEGIN:VEVENT
DTSTAMP;VALUE=DATE-TIME:20180125T050021Z
DTSTART;VALUE=DATE-TIME:20170627T201300Z
DTEND;VALUE=DATE-TIME:20020203
UID:http://www.tkcoll.school.nz/yr-10-food-tech-trip-to-pokeno-bacon
URL;VALUE=URI:http://www.tkcoll.school.nz/yr-10-food-tech-trip-to-pokeno-bacon
SUMMARY:Yr 10 Food Tech Trip to Pokeno Bacon
END:VEVENT
BEGIN:VEVENT
DTSTAMP;VALUE=DATE-TIME:20180125T050021Z
DTSTART;VALUE=DATE-TIME:20170628T053000Z
DTEND;VALUE=DATE-TIME:20170628T053000Z
UID:http://www.tkcoll.school.nz/board-of-trustees-meeting-26
URL;VALUE=URI:http://www.tkcoll.school.nz/board-of-trustees-meeting-26
SUMMARY:Board of Trustees Meeting
END:VEVENT
BEGIN:VEVENT
DTSTAMP;VALUE=DATE-TIME:20180125T050021Z
DTSTART;VALUE=DATE-TIME:20170628T201300Z
DTEND;VALUE=DATE-TIME:20020203
UID:http://www.tkcoll.school.nz/buildability-elective-tour
URL;VALUE=URI:http://www.tkcoll.school.nz/buildability-elective-tour
SUMMARY:Buildability Elective Tour
END:VEVENT
BEGIN:VEVENT
DTSTAMP;VALUE=DATE-TIME:20180125T050021Z
DTSTART;VALUE=DATE-TIME:20170629T223200Z
DTEND;VALUE=DATE-TIME:20020203
UID:http://www.tkcoll.school.nz/end-of-term-reports-sent-home
URL;VALUE=URI:http://www.tkcoll.school.nz/end-of-term-reports-sent-home
SUMMARY:End-of Term Reports Sent Home
END:VEVENT
BEGIN:VEVENT
DTSTAMP;VALUE=DATE-TIME:20180125T050021Z
DTSTART;VALUE=DATE-TIME:20170629T231100Z
DTEND;VALUE=DATE-TIME:20020203
UID:http://www.tkcoll.school.nz/thames-valley-golf-1
URL;VALUE=URI:http://www.tkcoll.school.nz/thames-valley-golf-1
SUMMARY:Thames Valley Golf
END:VEVENT
END:VCALENDAR
