BEGIN:VCALENDAR
VERSION:2.0
METHOD:PUBLISH
X-WR-CALNAME:Te Kauwhata College |  August 01 2018- September 01 2018
PRODID:-//strange bird labs//Drupal iCal API//EN
BEGIN:VEVENT
DTSTAMP;VALUE=DATE-TIME:20180125T050926Z
DTSTART;VALUE=DATE-TIME:20180801T083400Z
DTEND;VALUE=DATE-TIME:20020203
UID:http://www.tkcoll.school.nz/chainsaw-course-4
URL;VALUE=URI:http://www.tkcoll.school.nz/chainsaw-course-4
SUMMARY:Chainsaw Course
END:VEVENT
BEGIN:VEVENT
DTSTAMP;VALUE=DATE-TIME:20180125T050926Z
DTSTART;VALUE=DATE-TIME:20180806T083400Z
DTEND;VALUE=DATE-TIME:20020203
UID:http://www.tkcoll.school.nz/l3-pe-camp
URL;VALUE=URI:http://www.tkcoll.school.nz/l3-pe-camp
SUMMARY:L3 PE Camp
END:VEVENT
BEGIN:VEVENT
DTSTAMP;VALUE=DATE-TIME:20180125T050926Z
DTSTART;VALUE=DATE-TIME:20180814T083500Z
DTEND;VALUE=DATE-TIME:20020203
UID:http://www.tkcoll.school.nz/l3-biol-to-auckland-zoo
URL;VALUE=URI:http://www.tkcoll.school.nz/l3-biol-to-auckland-zoo
SUMMARY:L3 Biol to Auckland Zoo
END:VEVENT
BEGIN:VEVENT
DTSTAMP;VALUE=DATE-TIME:20180125T050926Z
DTSTART;VALUE=DATE-TIME:20180815T060000Z
DTEND;VALUE=DATE-TIME:20180815T060000Z
UID:http://www.tkcoll.school.nz/bot-meeting-6
URL;VALUE=URI:http://www.tkcoll.school.nz/bot-meeting-6
SUMMARY:BOT Meeting
END:VEVENT
BEGIN:VEVENT
DTSTAMP;VALUE=DATE-TIME:20180125T050926Z
DTSTART;VALUE=DATE-TIME:20180816T083600Z
DTEND;VALUE=DATE-TIME:20020203
UID:http://www.tkcoll.school.nz/whanau-hui-goal-setting
URL;VALUE=URI:http://www.tkcoll.school.nz/whanau-hui-goal-setting
SUMMARY:Whanau Hui - Goal Setting
END:VEVENT
BEGIN:VEVENT
DTSTAMP;VALUE=DATE-TIME:20180125T050926Z
DTSTART;VALUE=DATE-TIME:20180821T083600Z
DTEND;VALUE=DATE-TIME:20020203
UID:http://www.tkcoll.school.nz/koroneihana
URL;VALUE=URI:http://www.tkcoll.school.nz/koroneihana
SUMMARY:Koroneihana
END:VEVENT
BEGIN:VEVENT
DTSTAMP;VALUE=DATE-TIME:20180125T050926Z
DTSTART;VALUE=DATE-TIME:20180824T083700Z
DTEND;VALUE=DATE-TIME:20020203
UID:http://www.tkcoll.school.nz/itm-band-orchestra-festival-0
URL;VALUE=URI:http://www.tkcoll.school.nz/itm-band-orchestra-festival-0
SUMMARY:ITM Band & Orchestra Festival
END:VEVENT
BEGIN:VEVENT
DTSTAMP;VALUE=DATE-TIME:20180125T050926Z
DTSTART;VALUE=DATE-TIME:20180828T083700Z
DTEND;VALUE=DATE-TIME:20020203
UID:http://www.tkcoll.school.nz/lifecare-first-aid-course
URL;VALUE=URI:http://www.tkcoll.school.nz/lifecare-first-aid-course
SUMMARY:Lifecare First Aid Course
END:VEVENT
BEGIN:VEVENT
DTSTAMP;VALUE=DATE-TIME:20180125T050926Z
DTSTART;VALUE=DATE-TIME:20180830T083800Z
DTEND;VALUE=DATE-TIME:20020203
UID:http://www.tkcoll.school.nz/ncea-music-performance-assessment-evening-2
URL;VALUE=URI:http://www.tkcoll.school.nz/ncea-music-performance-assessment-evening-2
SUMMARY:NCEA Music Performance Assessment Evening
END:VEVENT
END:VCALENDAR
