BEGIN:VCALENDAR
VERSION:2.0
METHOD:PUBLISH
X-WR-CALNAME:Te Kauwhata College |  September 01 2018- October 01 2018 | Filter\: 
PRODID:-//strange bird labs//Drupal iCal API//EN
BEGIN:VEVENT
DTSTAMP;VALUE=DATE-TIME:20180125T050853Z
DTSTART;VALUE=DATE-TIME:20180903T084300Z
DTEND;VALUE=DATE-TIME:20020203
UID:http://www.tkcoll.school.nz/trimester-3-year-78-students
URL;VALUE=URI:http://www.tkcoll.school.nz/trimester-3-year-78-students
SUMMARY:Trimester 3 - Year 7&8 students
END:VEVENT
BEGIN:VEVENT
DTSTAMP;VALUE=DATE-TIME:20180125T050853Z
DTSTART;VALUE=DATE-TIME:20180903T084400Z
DTEND;VALUE=DATE-TIME:20020203
UID:http://www.tkcoll.school.nz/tournament-week-3
URL;VALUE=URI:http://www.tkcoll.school.nz/tournament-week-3
SUMMARY:Tournament Week
END:VEVENT
BEGIN:VEVENT
DTSTAMP;VALUE=DATE-TIME:20180125T050853Z
DTSTART;VALUE=DATE-TIME:20180911T083800Z
DTEND;VALUE=DATE-TIME:20020203
UID:http://www.tkcoll.school.nz/sportsteamgroup-photos
URL;VALUE=URI:http://www.tkcoll.school.nz/sportsteamgroup-photos
SUMMARY:Sports/ Team/ Group Photos
END:VEVENT
BEGIN:VEVENT
DTSTAMP;VALUE=DATE-TIME:20180125T050853Z
DTSTART;VALUE=DATE-TIME:20180912T083900Z
DTEND;VALUE=DATE-TIME:20020203
UID:http://www.tkcoll.school.nz/enrolment-evenings-1
URL;VALUE=URI:http://www.tkcoll.school.nz/enrolment-evenings-1
SUMMARY:Enrolment Evenings
END:VEVENT
BEGIN:VEVENT
DTSTAMP;VALUE=DATE-TIME:20180125T050853Z
DTSTART;VALUE=DATE-TIME:20180913T083900Z
DTEND;VALUE=DATE-TIME:20020203
UID:http://www.tkcoll.school.nz/ncea-practice-exams
URL;VALUE=URI:http://www.tkcoll.school.nz/ncea-practice-exams
SUMMARY:NCEA Practice Exams
END:VEVENT
BEGIN:VEVENT
DTSTAMP;VALUE=DATE-TIME:20180125T050853Z
DTSTART;VALUE=DATE-TIME:20180917T023800Z
DTEND;VALUE=DATE-TIME:20020203
UID:http://www.tkcoll.school.nz/ncea-practice-exams-0
URL;VALUE=URI:http://www.tkcoll.school.nz/ncea-practice-exams-0
SUMMARY:NCEA Practice Exams
END:VEVENT
BEGIN:VEVENT
DTSTAMP;VALUE=DATE-TIME:20180125T050853Z
DTSTART;VALUE=DATE-TIME:20180919T084000Z
DTEND;VALUE=DATE-TIME:20020203
UID:http://www.tkcoll.school.nz/bot-meeting-7
URL;VALUE=URI:http://www.tkcoll.school.nz/bot-meeting-7
SUMMARY:BOT Meeting
END:VEVENT
BEGIN:VEVENT
DTSTAMP;VALUE=DATE-TIME:20180125T050853Z
DTSTART;VALUE=DATE-TIME:20180924T084000Z
DTEND;VALUE=DATE-TIME:20020203
UID:http://www.tkcoll.school.nz/defensive-driving-day-1-of-5
URL;VALUE=URI:http://www.tkcoll.school.nz/defensive-driving-day-1-of-5
SUMMARY:Defensive Driving (Day 1 of 5)
END:VEVENT
BEGIN:VEVENT
DTSTAMP;VALUE=DATE-TIME:20180125T050853Z
DTSTART;VALUE=DATE-TIME:20180926T084000Z
DTEND;VALUE=DATE-TIME:20020203
UID:http://www.tkcoll.school.nz/defensive-driving-day-2-of-5
URL;VALUE=URI:http://www.tkcoll.school.nz/defensive-driving-day-2-of-5
SUMMARY:Defensive Driving (Day 2 of 5)
END:VEVENT
BEGIN:VEVENT
DTSTAMP;VALUE=DATE-TIME:20180125T050853Z
DTSTART;VALUE=DATE-TIME:20180926T084200Z
DTEND;VALUE=DATE-TIME:20020203
UID:http://www.tkcoll.school.nz/arts-awards-and-showcase
URL;VALUE=URI:http://www.tkcoll.school.nz/arts-awards-and-showcase
SUMMARY:Arts Awards and Showcase
END:VEVENT
BEGIN:VEVENT
DTSTAMP;VALUE=DATE-TIME:20180125T050853Z
DTSTART;VALUE=DATE-TIME:20180927T232800Z
DTEND;VALUE=DATE-TIME:20020203
UID:http://www.tkcoll.school.nz/last-day-of-term-3-3
URL;VALUE=URI:http://www.tkcoll.school.nz/last-day-of-term-3-3
SUMMARY:LAST DAY OF TERM 3
END:VEVENT
BEGIN:VEVENT
DTSTAMP;VALUE=DATE-TIME:20180125T050853Z
DTSTART;VALUE=DATE-TIME:20180928T232800Z
DTEND;VALUE=DATE-TIME:20020203
UID:http://www.tkcoll.school.nz/holidays-10
URL;VALUE=URI:http://www.tkcoll.school.nz/holidays-10
SUMMARY:Holidays
END:VEVENT
END:VCALENDAR
